BEGIN:VCALENDAR
VERSION:2.0
PRODID:-//Foundation for Women&#039;s Financial Education - ECPv6.15.13.1//NONSGML v1.0//EN
CALSCALE:GREGORIAN
METHOD:PUBLISH
X-WR-CALNAME:Foundation for Women&#039;s Financial Education
X-ORIGINAL-URL:https://womensfinancialeducation.org
X-WR-CALDESC:Events for Foundation for Women&#039;s Financial Education
REFRESH-INTERVAL;VALUE=DURATION:PT1H
X-Robots-Tag:noindex
X-PUBLISHED-TTL:PT1H
BEGIN:VTIMEZONE
TZID:America/New_York
BEGIN:DAYLIGHT
TZOFFSETFROM:-0500
TZOFFSETTO:-0400
TZNAME:EDT
DTSTART:20250309T070000
END:DAYLIGHT
BEGIN:STANDARD
TZOFFSETFROM:-0400
TZOFFSETTO:-0500
TZNAME:EST
DTSTART:20251102T060000
END:STANDARD
BEGIN:DAYLIGHT
TZOFFSETFROM:-0500
TZOFFSETTO:-0400
TZNAME:EDT
DTSTART:20260308T070000
END:DAYLIGHT
BEGIN:STANDARD
TZOFFSETFROM:-0400
TZOFFSETTO:-0500
TZNAME:EST
DTSTART:20261101T060000
END:STANDARD
BEGIN:DAYLIGHT
TZOFFSETFROM:-0500
TZOFFSETTO:-0400
TZNAME:EDT
DTSTART:20270314T070000
END:DAYLIGHT
BEGIN:STANDARD
TZOFFSETFROM:-0400
TZOFFSETTO:-0500
TZNAME:EST
DTSTART:20271107T060000
END:STANDARD
END:VTIMEZONE
BEGIN:VEVENT
DTSTART;TZID=America/New_York:20260115T180000
DTEND;TZID=America/New_York:20260115T193000
DTSTAMP:20260421T210110
CREATED:20251027T185232Z
LAST-MODIFIED:20260112T141202Z
UID:1417-1768500000-1768505400@womensfinancialeducation.org
SUMMARY:Know What You Own
DESCRIPTION:What’s really in that retirement plan you have? How much is that insurance policy actually costing you? How do you read these investment statements? Learn what to ask the professionals who are helping you with your money – or what questions to ask if you need a professional to help you.
URL:https://womensfinancialeducation.org/event/know-what-you-own/
LOCATION:Foundation’s Office\, 140 Allens Creek Rd\, Suite 3\, Rochester\, NY\, 14618\, United States
ORGANIZER;CN="Foundation for Women's Financial Education":MAILTO:Womensfinancialeducation@yahoo.com
END:VEVENT
BEGIN:VEVENT
DTSTART;TZID=America/New_York:20260110T090000
DTEND;TZID=America/New_York:20260110T130000
DTSTAMP:20260421T210110
CREATED:20251027T185616Z
LAST-MODIFIED:20251027T185616Z
UID:1423-1768035600-1768050000@womensfinancialeducation.org
SUMMARY:Second Saturday
DESCRIPTION:Second Saturday covers the legal\, financial\, family and personal issues of divorce in a logical\, yet compassionate way. Our workshops are presented by a team of qualified legal and financial professionals and family counselors. This classroom format will give you ample opportunity to ask questions\, meet with divorce professionals\, connect with resources for your specific situation\, and connect with other women in similar situations.
URL:https://womensfinancialeducation.org/event/second-saturday_january/
LOCATION:Foundation’s Office\, 140 Allens Creek Rd\, Suite 3\, Rochester\, NY\, 14618\, United States
ORGANIZER;CN="Foundation for Women's Financial Education":MAILTO:Womensfinancialeducation@yahoo.com
END:VEVENT
END:VCALENDAR