BEGIN:VCALENDAR
VERSION:2.0
PRODID:-//Foundation for Women&#039;s Financial Education - ECPv6.15.13.1//NONSGML v1.0//EN
CALSCALE:GREGORIAN
METHOD:PUBLISH
X-ORIGINAL-URL:https://womensfinancialeducation.org
X-WR-CALDESC:Events for Foundation for Women&#039;s Financial Education
REFRESH-INTERVAL;VALUE=DURATION:PT1H
X-Robots-Tag:noindex
X-PUBLISHED-TTL:PT1H
BEGIN:VTIMEZONE
TZID:America/New_York
BEGIN:DAYLIGHT
TZOFFSETFROM:-0500
TZOFFSETTO:-0400
TZNAME:EDT
DTSTART:20250309T070000
END:DAYLIGHT
BEGIN:STANDARD
TZOFFSETFROM:-0400
TZOFFSETTO:-0500
TZNAME:EST
DTSTART:20251102T060000
END:STANDARD
BEGIN:DAYLIGHT
TZOFFSETFROM:-0500
TZOFFSETTO:-0400
TZNAME:EDT
DTSTART:20260308T070000
END:DAYLIGHT
BEGIN:STANDARD
TZOFFSETFROM:-0400
TZOFFSETTO:-0500
TZNAME:EST
DTSTART:20261101T060000
END:STANDARD
BEGIN:DAYLIGHT
TZOFFSETFROM:-0500
TZOFFSETTO:-0400
TZNAME:EDT
DTSTART:20270314T070000
END:DAYLIGHT
BEGIN:STANDARD
TZOFFSETFROM:-0400
TZOFFSETTO:-0500
TZNAME:EST
DTSTART:20271107T060000
END:STANDARD
END:VTIMEZONE
BEGIN:VEVENT
DTSTART;TZID=America/New_York:20260618T180000
DTEND;TZID=America/New_York:20260618T193000
DTSTAMP:20260421T131937
CREATED:20260223T182235Z
LAST-MODIFIED:20260223T182235Z
UID:1463-1781805600-1781811000@womensfinancialeducation.org
SUMMARY:Where there's a Will\, you're the Way
DESCRIPTION:Executor\, Trustee\, or Power of Attorney… each have a role and responsibility with life and estate planning. Many of us are given one of these roles for a family member or friend\nwithout knowing what is expected of us. Understanding each role and the differences between them is helpful to know before you need it and when thinking about your own life plans.
URL:https://womensfinancialeducation.org/event/where-theres-a-will-youre-the-way/
LOCATION:Foundation’s Office\, 140 Allens Creek Rd\, Suite 3\, Rochester\, NY\, 14618\, United States
ORGANIZER;CN="Foundation for Women's Financial Education":MAILTO:Womensfinancialeducation@yahoo.com
END:VEVENT
END:VCALENDAR