BEGIN:VCALENDAR
VERSION:2.0
PRODID:-//Foundation for Women&#039;s Financial Education - ECPv6.15.13.1//NONSGML v1.0//EN
CALSCALE:GREGORIAN
METHOD:PUBLISH
X-ORIGINAL-URL:https://womensfinancialeducation.org
X-WR-CALDESC:Events for Foundation for Women&#039;s Financial Education
REFRESH-INTERVAL;VALUE=DURATION:PT1H
X-Robots-Tag:noindex
X-PUBLISHED-TTL:PT1H
BEGIN:VTIMEZONE
TZID:America/New_York
BEGIN:DAYLIGHT
TZOFFSETFROM:-0500
TZOFFSETTO:-0400
TZNAME:EDT
DTSTART:20250309T070000
END:DAYLIGHT
BEGIN:STANDARD
TZOFFSETFROM:-0400
TZOFFSETTO:-0500
TZNAME:EST
DTSTART:20251102T060000
END:STANDARD
BEGIN:DAYLIGHT
TZOFFSETFROM:-0500
TZOFFSETTO:-0400
TZNAME:EDT
DTSTART:20260308T070000
END:DAYLIGHT
BEGIN:STANDARD
TZOFFSETFROM:-0400
TZOFFSETTO:-0500
TZNAME:EST
DTSTART:20261101T060000
END:STANDARD
BEGIN:DAYLIGHT
TZOFFSETFROM:-0500
TZOFFSETTO:-0400
TZNAME:EDT
DTSTART:20270314T070000
END:DAYLIGHT
BEGIN:STANDARD
TZOFFSETFROM:-0400
TZOFFSETTO:-0500
TZNAME:EST
DTSTART:20271107T060000
END:STANDARD
END:VTIMEZONE
BEGIN:VEVENT
DTSTART;TZID=America/New_York:20260429T180000
DTEND;TZID=America/New_York:20260429T193000
DTSTAMP:20260421T073340
CREATED:20260305T205923Z
LAST-MODIFIED:20260305T205923Z
UID:1488-1777485600-1777491000@womensfinancialeducation.org
SUMMARY:Final Choices
DESCRIPTION:A conversation about end-of-life planning – what to think about\, what options are available\, and how to handle the subject with family and friends.
URL:https://womensfinancialeducation.org/event/final-choices/
LOCATION:Foundation’s Office\, 140 Allens Creek Rd\, Suite 3\, Rochester\, NY\, 14618\, United States
ORGANIZER;CN="Foundation for Women's Financial Education":MAILTO:Womensfinancialeducation@yahoo.com
END:VEVENT
END:VCALENDAR