BEGIN:VCALENDAR
VERSION:2.0
PRODID:-//Foundation for Women&#039;s Financial Education - ECPv6.15.13.1//NONSGML v1.0//EN
CALSCALE:GREGORIAN
METHOD:PUBLISH
X-ORIGINAL-URL:https://womensfinancialeducation.org
X-WR-CALDESC:Events for Foundation for Women&#039;s Financial Education
REFRESH-INTERVAL;VALUE=DURATION:PT1H
X-Robots-Tag:noindex
X-PUBLISHED-TTL:PT1H
BEGIN:VTIMEZONE
TZID:America/New_York
BEGIN:DAYLIGHT
TZOFFSETFROM:-0500
TZOFFSETTO:-0400
TZNAME:EDT
DTSTART:20250309T070000
END:DAYLIGHT
BEGIN:STANDARD
TZOFFSETFROM:-0400
TZOFFSETTO:-0500
TZNAME:EST
DTSTART:20251102T060000
END:STANDARD
BEGIN:DAYLIGHT
TZOFFSETFROM:-0500
TZOFFSETTO:-0400
TZNAME:EDT
DTSTART:20260308T070000
END:DAYLIGHT
BEGIN:STANDARD
TZOFFSETFROM:-0400
TZOFFSETTO:-0500
TZNAME:EST
DTSTART:20261101T060000
END:STANDARD
BEGIN:DAYLIGHT
TZOFFSETFROM:-0500
TZOFFSETTO:-0400
TZNAME:EDT
DTSTART:20270314T070000
END:DAYLIGHT
BEGIN:STANDARD
TZOFFSETFROM:-0400
TZOFFSETTO:-0500
TZNAME:EST
DTSTART:20271107T060000
END:STANDARD
END:VTIMEZONE
BEGIN:VEVENT
DTSTART;TZID=America/New_York:20260319T180000
DTEND;TZID=America/New_York:20260319T193000
DTSTAMP:20260421T155428
CREATED:20251211T153015Z
LAST-MODIFIED:20251211T153015Z
UID:1443-1773943200-1773948600@womensfinancialeducation.org
SUMMARY:Identity Theft and Your Financial Life
DESCRIPTION:The majority of identity theft is committed by someone we know – what can you do to protect yourself or a loved one? What’s the difference between identity theft and plain old theft? Learn what questions to ask\, what steps to take\, and ways to avoid having your identity stolen.
URL:https://womensfinancialeducation.org/event/identity-theft-and-your-financial-life/
LOCATION:Foundation’s Office\, 140 Allens Creek Rd\, Suite 3\, Rochester\, NY\, 14618\, United States
ORGANIZER;CN="Foundation for Women's Financial Education":MAILTO:Womensfinancialeducation@yahoo.com
END:VEVENT
END:VCALENDAR